BEGIN:VCALENDAR
VERSION:2.0
PRODID:-//Deniliquin RSL Club - ECPv6.15.20//NONSGML v1.0//EN
CALSCALE:GREGORIAN
METHOD:PUBLISH
X-WR-CALNAME:Deniliquin RSL Club
X-ORIGINAL-URL:https://denirsl.com
X-WR-CALDESC:Events for Deniliquin RSL Club
REFRESH-INTERVAL;VALUE=DURATION:PT1H
X-Robots-Tag:noindex
X-PUBLISHED-TTL:PT1H
BEGIN:VTIMEZONE
TZID:Australia/Melbourne
BEGIN:STANDARD
TZOFFSETFROM:+1100
TZOFFSETTO:+1000
TZNAME:AEST
DTSTART:20250405T160000
END:STANDARD
BEGIN:DAYLIGHT
TZOFFSETFROM:+1000
TZOFFSETTO:+1100
TZNAME:AEDT
DTSTART:20251004T160000
END:DAYLIGHT
BEGIN:STANDARD
TZOFFSETFROM:+1100
TZOFFSETTO:+1000
TZNAME:AEST
DTSTART:20260404T160000
END:STANDARD
BEGIN:DAYLIGHT
TZOFFSETFROM:+1000
TZOFFSETTO:+1100
TZNAME:AEDT
DTSTART:20261003T160000
END:DAYLIGHT
BEGIN:STANDARD
TZOFFSETFROM:+1100
TZOFFSETTO:+1000
TZNAME:AEST
DTSTART:20270403T160000
END:STANDARD
BEGIN:DAYLIGHT
TZOFFSETFROM:+1000
TZOFFSETTO:+1100
TZNAME:AEDT
DTSTART:20271002T160000
END:DAYLIGHT
END:VTIMEZONE
BEGIN:VEVENT
DTSTART;TZID=Australia/Melbourne:20260426T150000
DTEND;TZID=Australia/Melbourne:20260426T150000
DTSTAMP:20260426T012518
CREATED:20260318T072050Z
LAST-MODIFIED:20260417T003855Z
UID:5664-1777215600-1777215600@denirsl.com
SUMMARY:Paul Vitullo
DESCRIPTION:With a career spanning back to the late ’70s\, Paul Vitullo brings a wealth of experience to the Beer Garden this Sunday from 3pm. \n\nHaving performed alongside some of Australia’s most iconic artists and fronted renowned tribute acts\, Paul delivers a polished\, full-bodied sound that blends nostalgia with contemporary flair. Settle in for an afternoon of timeless hits\, crowd favourites\, and effortlessly good live music in a relaxed outdoor setting.\n\nDon’t forget our FREE Courtesy Bus operates all day\, every day from Deni RSL. Call our friendly reception team on 03 5881 1511 to book your pickup.
URL:https://denirsl.com/event-archive/paul-vitullo-180326/
ATTACH;FMTTYPE=image/jpeg:https://denirsl.com/wp-content/uploads/2026/03/PV-SOLO1.jpg
END:VEVENT
END:VCALENDAR