BEGIN:VCALENDAR
VERSION:2.0
PRODID:-//Deniliquin RSL Club - ECPv6.15.20//NONSGML v1.0//EN
CALSCALE:GREGORIAN
METHOD:PUBLISH
X-ORIGINAL-URL:https://denirsl.com
X-WR-CALDESC:Events for Deniliquin RSL Club
REFRESH-INTERVAL;VALUE=DURATION:PT1H
X-Robots-Tag:noindex
X-PUBLISHED-TTL:PT1H
BEGIN:VTIMEZONE
TZID:Australia/Melbourne
BEGIN:STANDARD
TZOFFSETFROM:+1100
TZOFFSETTO:+1000
TZNAME:AEST
DTSTART:20240406T160000
END:STANDARD
BEGIN:DAYLIGHT
TZOFFSETFROM:+1000
TZOFFSETTO:+1100
TZNAME:AEDT
DTSTART:20241005T160000
END:DAYLIGHT
BEGIN:STANDARD
TZOFFSETFROM:+1100
TZOFFSETTO:+1000
TZNAME:AEST
DTSTART:20250405T160000
END:STANDARD
BEGIN:DAYLIGHT
TZOFFSETFROM:+1000
TZOFFSETTO:+1100
TZNAME:AEDT
DTSTART:20251004T160000
END:DAYLIGHT
BEGIN:STANDARD
TZOFFSETFROM:+1100
TZOFFSETTO:+1000
TZNAME:AEST
DTSTART:20260404T160000
END:STANDARD
BEGIN:DAYLIGHT
TZOFFSETFROM:+1000
TZOFFSETTO:+1100
TZNAME:AEDT
DTSTART:20261003T160000
END:DAYLIGHT
END:VTIMEZONE
BEGIN:VEVENT
DTSTART;TZID=Australia/Melbourne:20251227T193000
DTEND;TZID=Australia/Melbourne:20251227T193000
DTSTAMP:20260426T134931
CREATED:20251112T210516Z
LAST-MODIFIED:20251112T210516Z
UID:4622-1766863800-1766863800@denirsl.com
SUMMARY:Jammed Up
DESCRIPTION:Get ready for a great night of live entertainment with Jammed Up performing in the Main Lounge! \nCatch them on Saturday 27 December\, Saturday 31 January\, and Saturday 25 April\, with each show kicking off at 7:30 pm. \nIt’s a free event\, so bring your friends\, grab a drink\, and enjoy the music all night long!
URL:https://denirsl.com/event-archive/jammed-up/
ATTACH;FMTTYPE=image/png:https://denirsl.com/wp-content/uploads/2025/11/Jammed_up_Logo.png
END:VEVENT
END:VCALENDAR